Package: TDbasedUFE Version: 1.7.0 Command: chmod a+r TDbasedUFE -R && E:\biocbuild\bbs-3.21-bioc\R\bin\R.exe CMD build --keep-empty-dirs --no-resave-data TDbasedUFE StartedAt: 2025-02-09 22:03:13 -0500 (Sun, 09 Feb 2025) EndedAt: 2025-02-09 22:04:09 -0500 (Sun, 09 Feb 2025) EllapsedTime: 55.4 seconds RetCode: 0 Status: OK PackageFile: TDbasedUFE_1.7.0.tar.gz PackageFileSize: 960.2 KiB