Package: TDbasedUFE Version: 1.7.0 Command: E:\biocbuild\bbs-3.21-bioc\R\bin\R.exe CMD INSTALL TDbasedUFE StartedAt: 2025-02-04 16:01:09 -0500 (Tue, 04 Feb 2025) EndedAt: 2025-02-04 16:01:26 -0500 (Tue, 04 Feb 2025) EllapsedTime: 17.2 seconds RetCode: 0 Status: OK