Package: TDbasedUFEadv Version: 1.7.0 Command: /Library/Frameworks/R.framework/Resources/bin/R CMD build --keep-empty-dirs --no-resave-data TDbasedUFEadv StartedAt: 2025-02-04 17:47:50 -0500 (Tue, 04 Feb 2025) EndedAt: 2025-02-04 17:49:31 -0500 (Tue, 04 Feb 2025) EllapsedTime: 101.2 seconds RetCode: 0 Status: OK PackageFile: TDbasedUFEadv_1.7.0.tar.gz PackageFileSize: 4.02 MiB