Package: TDbasedUFEadv Version: 1.7.0 Command: rm -rf TDbasedUFEadv.buildbin-libdir && mkdir TDbasedUFEadv.buildbin-libdir && /Users/biocbuild/BBS/utils/build-universal.sh TDbasedUFEadv_1.7.0.tar.gz /Library/Frameworks/R.framework/Resources/bin/R TDbasedUFEadv.buildbin-libdir StartedAt: 2025-02-10 01:20:11 -0500 (Mon, 10 Feb 2025) EndedAt: 2025-02-10 01:20:50 -0500 (Mon, 10 Feb 2025) EllapsedTime: 39.4 seconds RetCode: 0 Status: OK PackageFile: TDbasedUFEadv_1.7.0.tgz PackageFileSize: 3.507 MiB