Package: TDbasedUFEadv Version: 1.7.0 Command: /home/biocbuild/bbs-3.21-bioc/R/bin/R CMD build --keep-empty-dirs --no-resave-data TDbasedUFEadv StartedAt: 2025-02-09 19:34:15 -0500 (Sun, 09 Feb 2025) EndedAt: 2025-02-09 19:37:28 -0500 (Sun, 09 Feb 2025) EllapsedTime: 192.4 seconds RetCode: 0 Status: OK PackageFile: TDbasedUFEadv_1.7.0.tar.gz PackageFileSize: 3.78 MiB