Package: TDbasedUFEadv Version: 1.7.0 Command: rm -rf TDbasedUFEadv.buildbin-libdir && mkdir TDbasedUFEadv.buildbin-libdir && E:\biocbuild\bbs-3.21-bioc\R\bin\R.exe CMD INSTALL --build --library=TDbasedUFEadv.buildbin-libdir TDbasedUFEadv_1.7.0.tar.gz StartedAt: 2025-02-10 08:51:11 -0500 (Mon, 10 Feb 2025) EndedAt: 2025-02-10 08:52:06 -0500 (Mon, 10 Feb 2025) EllapsedTime: 54.4 seconds RetCode: 0 Status: OK PackageFile: TDbasedUFEadv_1.7.0.zip PackageFileSize: 2.065 MiB