Package: TDbasedUFEadv Version: 1.7.0 Command: chmod a+r TDbasedUFEadv -R && E:\biocbuild\bbs-3.21-bioc\R\bin\R.exe CMD build --keep-empty-dirs --no-resave-data TDbasedUFEadv StartedAt: 2025-02-09 22:03:14 -0500 (Sun, 09 Feb 2025) EndedAt: 2025-02-09 22:07:19 -0500 (Sun, 09 Feb 2025) EllapsedTime: 245.0 seconds RetCode: 0 Status: OK PackageFile: TDbasedUFEadv_1.7.0.tar.gz PackageFileSize: 2.577 MiB