Package: TDbasedUFEadv Version: 1.7.0 Command: E:\biocbuild\bbs-3.21-bioc\R\bin\R.exe CMD check --no-multiarch --install=check:TDbasedUFEadv.install-out.txt --library=E:\biocbuild\bbs-3.21-bioc\R\library --no-vignettes --timings TDbasedUFEadv_1.7.0.tar.gz StartedAt: 2025-02-10 06:06:50 -0500 (Mon, 10 Feb 2025) EndedAt: 2025-02-10 06:11:21 -0500 (Mon, 10 Feb 2025) EllapsedTime: 270.3 seconds RetCode: 0 Status: OK CheckDir: TDbasedUFEadv.Rcheck Warnings: 0