Package: TENxIO Version: 1.9.3 Command: /Library/Frameworks/R.framework/Resources/bin/R CMD build --keep-empty-dirs --no-resave-data TENxIO StartedAt: 2025-02-09 17:47:44 -0500 (Sun, 09 Feb 2025) EndedAt: 2025-02-09 17:48:00 -0500 (Sun, 09 Feb 2025) EllapsedTime: 16.2 seconds RetCode: 1 Status: ERROR PackageFile: None PackageFileSize: NA