Package: TENxIO Version: 1.9.3 Command: /home/biocbuild/R/R/bin/R CMD build --keep-empty-dirs --no-resave-data TENxIO StartedAt: 2025-01-28 02:53:02 -0000 (Tue, 28 Jan 2025) EndedAt: 2025-01-28 02:54:04 -0000 (Tue, 28 Jan 2025) EllapsedTime: 61.0 seconds RetCode: 0 Status: OK PackageFile: TENxIO_1.9.3.tar.gz PackageFileSize: 282.7 KiB