Package: TENxIO Version: 1.9.3 Command: /home/biocbuild/R/R/bin/R CMD check --install=check:TENxIO.install-out.txt --library=/home/biocbuild/R/R/site-library --no-vignettes --timings TENxIO_1.9.3.tar.gz StartedAt: 2025-01-28 16:02:33 -0000 (Tue, 28 Jan 2025) EndedAt: 2025-01-28 16:06:58 -0000 (Tue, 28 Jan 2025) EllapsedTime: 265.3 seconds RetCode: 0 Status: OK CheckDir: TENxIO.Rcheck Warnings: 0