Package: TENxIO Version: 1.9.3 Command: /home/biocbuild/R/R/bin/R CMD INSTALL TENxIO StartedAt: 2025-01-29 19:42:30 -0000 (Wed, 29 Jan 2025) EndedAt: 2025-01-29 19:43:05 -0000 (Wed, 29 Jan 2025) EllapsedTime: 35.4 seconds RetCode: 0 Status: OK