Package: TENxIO Version: 1.9.3 Command: /Library/Frameworks/R.framework/Resources/bin/R CMD build --keep-empty-dirs --no-resave-data TENxIO StartedAt: 2025-02-12 18:33:53 -0500 (Wed, 12 Feb 2025) EndedAt: 2025-02-12 18:34:39 -0500 (Wed, 12 Feb 2025) EllapsedTime: 45.7 seconds RetCode: 1 Status: ERROR PackageFile: None PackageFileSize: NA