Package: TENxIO Version: 1.9.3 Command: /Library/Frameworks/R.framework/Resources/bin/R CMD INSTALL TENxIO StartedAt: 2025-02-12 15:12:20 -0500 (Wed, 12 Feb 2025) EndedAt: 2025-02-12 15:12:58 -0500 (Wed, 12 Feb 2025) EllapsedTime: 38.2 seconds RetCode: 0 Status: OK