Package: TENxIO Version: 1.9.3 Command: /home/biocbuild/bbs-3.21-bioc/R/bin/R CMD build --keep-empty-dirs --no-resave-data TENxIO StartedAt: 2025-02-09 19:34:22 -0500 (Sun, 09 Feb 2025) EndedAt: 2025-02-09 19:35:06 -0500 (Sun, 09 Feb 2025) EllapsedTime: 43.3 seconds RetCode: 0 Status: OK PackageFile: TENxIO_1.9.3.tar.gz PackageFileSize: 256.2 KiB