Package: TENxIO Version: 1.9.3 Command: /home/biocbuild/bbs-3.21-bioc/R/bin/R CMD check --install=check:TENxIO.install-out.txt --library=/home/biocbuild/bbs-3.21-bioc/R/site-library --timings TENxIO_1.9.3.tar.gz StartedAt: 2025-02-10 03:17:51 -0500 (Mon, 10 Feb 2025) EndedAt: 2025-02-10 03:21:14 -0500 (Mon, 10 Feb 2025) EllapsedTime: 203.2 seconds RetCode: 0 Status: OK CheckDir: TENxIO.Rcheck Warnings: 0