Package: TENxIO Version: 1.9.3 Command: rm -rf TENxIO.buildbin-libdir && mkdir TENxIO.buildbin-libdir && E:\biocbuild\bbs-3.21-bioc\R\bin\R.exe CMD INSTALL --build --library=TENxIO.buildbin-libdir TENxIO_1.9.3.tar.gz StartedAt: 2025-02-13 09:01:55 -0500 (Thu, 13 Feb 2025) EndedAt: 2025-02-13 09:02:43 -0500 (Thu, 13 Feb 2025) EllapsedTime: 48.3 seconds RetCode: 0 Status: OK PackageFile: TENxIO_1.9.3.zip PackageFileSize: 583.8 KiB