Package: TENxIO Version: 1.9.3 Command: chmod a+r TENxIO -R && E:\biocbuild\bbs-3.21-bioc\R\bin\R.exe CMD build --keep-empty-dirs --no-resave-data TENxIO StartedAt: 2025-02-09 22:03:23 -0500 (Sun, 09 Feb 2025) EndedAt: 2025-02-09 22:04:26 -0500 (Sun, 09 Feb 2025) EllapsedTime: 63.6 seconds RetCode: 0 Status: OK PackageFile: TENxIO_1.9.3.tar.gz PackageFileSize: 256.3 KiB