Package: TENxIO Version: 1.9.3 Command: E:\biocbuild\bbs-3.21-bioc\R\bin\R.exe CMD INSTALL TENxIO StartedAt: 2025-02-09 16:31:19 -0500 (Sun, 09 Feb 2025) EndedAt: 2025-02-09 16:31:59 -0500 (Sun, 09 Feb 2025) EllapsedTime: 40.5 seconds RetCode: 0 Status: OK