Package: TEQC Version: 4.29.0 Command: rm -rf TEQC.buildbin-libdir && mkdir TEQC.buildbin-libdir && /Users/biocbuild/BBS/utils/build-universal.sh TEQC_4.29.0.tar.gz /Library/Frameworks/R.framework/Resources/bin/R TEQC.buildbin-libdir StartedAt: 2025-02-12 22:38:23 -0500 (Wed, 12 Feb 2025) EndedAt: 2025-02-12 22:38:30 -0500 (Wed, 12 Feb 2025) EllapsedTime: 7.1 seconds RetCode: 0 Status: OK PackageFile: TEQC_4.29.0.tgz PackageFileSize: 791.7 KiB