Package: TEQC Version: 4.29.0 Command: /Library/Frameworks/R.framework/Resources/bin/R CMD build --keep-empty-dirs --no-resave-data TEQC StartedAt: 2025-02-09 17:47:47 -0500 (Sun, 09 Feb 2025) EndedAt: 2025-02-09 17:47:58 -0500 (Sun, 09 Feb 2025) EllapsedTime: 11.1 seconds RetCode: 0 Status: OK PackageFile: TEQC_4.29.0.tar.gz PackageFileSize: 643.8 KiB