Package: TEQC Version: 4.29.0 Command: /Library/Frameworks/R.framework/Resources/bin/R CMD check --install=check:TEQC.install-out.txt --library=/Library/Frameworks/R.framework/Resources/library --no-vignettes --timings TEQC_4.29.0.tar.gz StartedAt: 2025-02-09 21:43:10 -0500 (Sun, 09 Feb 2025) EndedAt: 2025-02-09 21:43:53 -0500 (Sun, 09 Feb 2025) EllapsedTime: 42.5 seconds RetCode: 0 Status: WARNINGS CheckDir: TEQC.Rcheck Warnings: 1