Package: TEQC Version: 4.29.0 Command: /Library/Frameworks/R.framework/Resources/bin/R CMD INSTALL TEQC StartedAt: 2025-02-12 15:10:30 -0500 (Wed, 12 Feb 2025) EndedAt: 2025-02-12 15:10:36 -0500 (Wed, 12 Feb 2025) EllapsedTime: 6.2 seconds RetCode: 0 Status: OK