Package: TEQC Version: 4.29.0 Command: rm -rf TEQC.buildbin-libdir && mkdir TEQC.buildbin-libdir && /Users/biocbuild/BBS/utils/build-universal.sh TEQC_4.29.0.tar.gz /Library/Frameworks/R.framework/Resources/bin/R TEQC.buildbin-libdir StartedAt: 2025-02-10 01:20:13 -0500 (Mon, 10 Feb 2025) EndedAt: 2025-02-10 01:20:36 -0500 (Mon, 10 Feb 2025) EllapsedTime: 22.2 seconds RetCode: 0 Status: OK PackageFile: TEQC_4.29.0.tgz PackageFileSize: 790.6 KiB