Package: TEQC Version: 4.29.0 Command: /Library/Frameworks/R.framework/Resources/bin/R CMD build --keep-empty-dirs --no-resave-data TEQC StartedAt: 2025-02-09 18:42:17 -0500 (Sun, 09 Feb 2025) EndedAt: 2025-02-09 18:42:48 -0500 (Sun, 09 Feb 2025) EllapsedTime: 30.8 seconds RetCode: 0 Status: OK PackageFile: TEQC_4.29.0.tar.gz PackageFileSize: 643 KiB