Package: TEQC Version: 4.29.0 Command: /Library/Frameworks/R.framework/Resources/bin/R CMD INSTALL TEQC StartedAt: 2025-02-09 15:17:00 -0500 (Sun, 09 Feb 2025) EndedAt: 2025-02-09 15:17:20 -0500 (Sun, 09 Feb 2025) EllapsedTime: 20.3 seconds RetCode: 0 Status: OK