Package: TEQC Version: 4.29.0 Command: /home/biocbuild/bbs-3.21-bioc/R/bin/R CMD INSTALL TEQC StartedAt: 2025-02-12 15:16:09 -0500 (Wed, 12 Feb 2025) EndedAt: 2025-02-12 15:16:23 -0500 (Wed, 12 Feb 2025) EllapsedTime: 13.5 seconds RetCode: 0 Status: OK