Package: TEQC Version: 4.29.0 Command: rm -rf TEQC.buildbin-libdir && mkdir TEQC.buildbin-libdir && E:\biocbuild\bbs-3.21-bioc\R\bin\R.exe CMD INSTALL --build --library=TEQC.buildbin-libdir TEQC_4.29.0.tar.gz StartedAt: 2025-02-10 08:51:41 -0500 (Mon, 10 Feb 2025) EndedAt: 2025-02-10 08:52:01 -0500 (Mon, 10 Feb 2025) EllapsedTime: 20.5 seconds RetCode: 0 Status: OK PackageFile: TEQC_4.29.0.zip PackageFileSize: 667.4 KiB