Package: TEQC Version: 4.29.0 Command: chmod a+r TEQC -R && E:\biocbuild\bbs-3.21-bioc\R\bin\R.exe CMD build --keep-empty-dirs --no-resave-data TEQC StartedAt: 2025-02-09 22:03:53 -0500 (Sun, 09 Feb 2025) EndedAt: 2025-02-09 22:04:31 -0500 (Sun, 09 Feb 2025) EllapsedTime: 38.7 seconds RetCode: 0 Status: OK PackageFile: TEQC_4.29.0.tar.gz PackageFileSize: 510.3 KiB