Package: TEQC Version: 4.29.0 Command: E:\biocbuild\bbs-3.21-bioc\R\bin\R.exe CMD check --no-multiarch --install=check:TEQC.install-out.txt --library=E:\biocbuild\bbs-3.21-bioc\R\library --no-vignettes --timings TEQC_4.29.0.tar.gz StartedAt: 2025-02-10 06:07:25 -0500 (Mon, 10 Feb 2025) EndedAt: 2025-02-10 06:09:28 -0500 (Mon, 10 Feb 2025) EllapsedTime: 122.7 seconds RetCode: 0 Status: WARNINGS CheckDir: TEQC.Rcheck Warnings: 1