Package: TFARM Version: 1.29.0 Command: /Library/Frameworks/R.framework/Resources/bin/R CMD INSTALL TFARM StartedAt: 2025-02-04 15:07:07 -0500 (Tue, 04 Feb 2025) EndedAt: 2025-02-04 15:07:14 -0500 (Tue, 04 Feb 2025) EllapsedTime: 6.3 seconds RetCode: 0 Status: OK