Package: TFARM Version: 1.29.0 Command: rm -rf TFARM.buildbin-libdir && mkdir TFARM.buildbin-libdir && /Users/biocbuild/BBS/utils/build-universal.sh TFARM_1.29.0.tar.gz /Library/Frameworks/R.framework/Resources/bin/R TFARM.buildbin-libdir StartedAt: 2025-02-10 01:20:14 -0500 (Mon, 10 Feb 2025) EndedAt: 2025-02-10 01:20:39 -0500 (Mon, 10 Feb 2025) EllapsedTime: 24.3 seconds RetCode: 0 Status: OK PackageFile: TFARM_1.29.0.tgz PackageFileSize: 534.7 KiB