Package: TFARM Version: 1.29.0 Command: /home/biocbuild/bbs-3.21-bioc/R/bin/R CMD build --keep-empty-dirs --no-resave-data TFARM StartedAt: 2025-02-12 19:30:37 -0500 (Wed, 12 Feb 2025) EndedAt: 2025-02-12 19:32:18 -0500 (Wed, 12 Feb 2025) EllapsedTime: 100.3 seconds RetCode: 0 Status: OK PackageFile: TFARM_1.29.0.tar.gz PackageFileSize: 470.9 KiB