Package: TFARM Version: 1.29.0 Command: /home/biocbuild/bbs-3.21-bioc/R/bin/R CMD check --install=check:TFARM.install-out.txt --library=/home/biocbuild/bbs-3.21-bioc/R/site-library --timings TFARM_1.29.0.tar.gz StartedAt: 2025-02-10 03:18:55 -0500 (Mon, 10 Feb 2025) EndedAt: 2025-02-10 03:22:13 -0500 (Mon, 10 Feb 2025) EllapsedTime: 198.2 seconds RetCode: 0 Status: OK CheckDir: TFARM.Rcheck Warnings: 0