Package: TFARM Version: 1.29.0 Command: rm -rf TFARM.buildbin-libdir && mkdir TFARM.buildbin-libdir && E:\biocbuild\bbs-3.21-bioc\R\bin\R.exe CMD INSTALL --build --library=TFARM.buildbin-libdir TFARM_1.29.0.tar.gz StartedAt: 2025-02-10 08:51:45 -0500 (Mon, 10 Feb 2025) EndedAt: 2025-02-10 08:52:10 -0500 (Mon, 10 Feb 2025) EllapsedTime: 24.7 seconds RetCode: 0 Status: OK PackageFile: TFARM_1.29.0.zip PackageFileSize: 538.4 KiB