Package: TFARM Version: 1.29.0 Command: chmod a+r TFARM -R && E:\biocbuild\bbs-3.21-bioc\R\bin\R.exe CMD build --keep-empty-dirs --no-resave-data TFARM StartedAt: 2025-02-09 22:04:10 -0500 (Sun, 09 Feb 2025) EndedAt: 2025-02-09 22:06:56 -0500 (Sun, 09 Feb 2025) EllapsedTime: 165.5 seconds RetCode: 0 Status: OK PackageFile: TFARM_1.29.0.tar.gz PackageFileSize: 472.5 KiB