Package: TFARM Version: 1.29.0 Command: E:\biocbuild\bbs-3.21-bioc\R\bin\R.exe CMD INSTALL TFARM StartedAt: 2025-02-09 15:52:39 -0500 (Sun, 09 Feb 2025) EndedAt: 2025-02-09 15:53:04 -0500 (Sun, 09 Feb 2025) EllapsedTime: 25.6 seconds RetCode: 0 Status: OK