Back to Multiple platform build/check report for BioC 3.21:   simplified   long
ABCDEFGHIJKLMNOPQRS[T]UVWXYZ

This page was generated on 2025-02-10 11:39 -0500 (Mon, 10 Feb 2025).

HostnameOSArch (*)R versionInstalled pkgs
nebbiolo1Linux (Ubuntu 24.04.1 LTS)x86_64R Under development (unstable) (2025-01-20 r87609) -- "Unsuffered Consequences" 4719
palomino7Windows Server 2022 Datacenterx64R Under development (unstable) (2025-01-21 r87610 ucrt) -- "Unsuffered Consequences" 4480
lconwaymacOS 12.7.1 Montereyx86_64R Under development (unstable) (2025-01-22 r87618) -- "Unsuffered Consequences" 4491
kjohnson3macOS 13.7.1 Venturaarm64R Under development (unstable) (2025-01-20 r87609) -- "Unsuffered Consequences" 4444
Click on any hostname to see more info about the system (e.g. compilers)      (*) as reported by 'uname -p', except on Windows and Mac OS X

All results for package TFBSTools


To the developers/maintainers of the TFBSTools package:
- Allow up to 24 hours (and sometimes 48 hours) for your latest push to git@git.bioconductor.org:packages/TFBSTools.git to reflect on this report. See Troubleshooting Build Report for more information.
- Use the following Renviron settings to reproduce errors and warnings.
- If 'R CMD check' started to fail recently on the Linux builder(s) over a missing dependency, add the missing dependency to 'Suggests:' in your DESCRIPTION file. See Renviron.bioc for more information.

raw results

Package 2138/2295HostnameOS / ArchINSTALLBUILDCHECKBUILD BIN
TFBSTools 1.45.1  (landing page)
Ge Tan
Snapshot Date: 2025-02-09 13:40 -0500 (Sun, 09 Feb 2025)
git_url: https://git.bioconductor.org/packages/TFBSTools
git_branch: devel
git_last_commit: 2c2776b
git_last_commit_date: 2024-12-23 15:19:47 -0500 (Mon, 23 Dec 2024)
nebbiolo1Linux (Ubuntu 24.04.1 LTS) / x86_64  OK    OK    OK  UNNEEDED, same version is already published
palomino7Windows Server 2022 Datacenter / x64  OK    OK    OK    OK  UNNEEDED, same version is already published
lconwaymacOS 12.7.1 Monterey / x86_64  OK    OK    OK    OK  UNNEEDED, same version is already published
kjohnson3macOS 13.7.1 Ventura / arm64  OK    OK    OK    OK  NO, package depends on 'CNEr' which is only available as a source package that needs compilation



Results for Bioconductor software packages that depend directly on package TFBSTools

QUICK STATSOS / ArchINSTALLBUILDCHECKBUILD BIN
nebbiolo1Linux (Ubuntu 24.04.1 LTS) / x86_64
0010
0010
0028
palomino7Windows Server 2022 Datacenter / x64
0010
0010
0019
0010
lconwaymacOS 12.7.1 Monterey / x86_64
0010
0010
0028
0010
kjohnson3macOS 13.7.1 Ventura / arm64
0010
0010
0028
0010
Package 1/10HostnameOS / ArchINSTALLBUILDCHECKBUILD BIN
ATACseqTFEA 1.9.1  (landing page)
Jianhong Ou
git_last_commit: 9b544c8
git_last_commit_date: 2025-01-03 10:13:52 -0500
nebbiolo1Linux (Ubuntu 24.04.1 LTS) / x86_64  OK    OK    OK  UNNEEDED, same version is already published
palomino7Windows Server 2022 Datacenter / x64  OK    OK    OK    OK  UNNEEDED, same version is already published
lconwaymacOS 12.7.1 Monterey / x86_64  OK    OK    OK    OK  UNNEEDED, same version is already published
kjohnson3macOS 13.7.1 Ventura / arm64  OK    OK    OK    OK  NO, package depends on 'motifmatchr' which is only available as a source package that needs compilation
Package 2/10HostnameOS / ArchINSTALLBUILDCHECKBUILD BIN
chromVAR 1.29.0  (landing page)
Alicia Schep
git_last_commit: 261e3b9
git_last_commit_date: 2024-10-29 10:22:54 -0500
nebbiolo1Linux (Ubuntu 24.04.1 LTS) / x86_64  OK    OK    OK  UNNEEDED, same version is already published
palomino7Windows Server 2022 Datacenter / x64  OK    OK    OK    OK  UNNEEDED, same version is already published
lconwaymacOS 12.7.1 Monterey / x86_64  OK    OK    OK    OK  UNNEEDED, same version is already published
kjohnson3macOS 13.7.1 Ventura / arm64  OK    OK    OK    OK  NO, package depends on 'TFBSTools' which is only available as a source package that needs compilation
Package 3/10HostnameOS / ArchINSTALLBUILDCHECKBUILD BIN
esATAC 1.29.0  (landing page)
Zheng Wei
git_last_commit: 508f345
git_last_commit_date: 2024-10-29 10:24:06 -0500
nebbiolo1Linux (Ubuntu 24.04.1 LTS) / x86_64  OK    OK    OK  UNNEEDED, same version is already published
palomino7Windows Server 2022 Datacenter / x64  OK    OK    OK    OK  UNNEEDED, same version is already published
lconwaymacOS 12.7.1 Monterey / x86_64  OK    OK    OK    OK  UNNEEDED, same version is already published
kjohnson3macOS 13.7.1 Ventura / arm64  OK    OK    OK    OK  NO, package depends on 'TFBSTools' which is only available as a source package that needs compilation
Package 4/10HostnameOS / ArchINSTALLBUILDCHECKBUILD BIN
MatrixRider 1.39.0  (landing page)
Elena Grassi
git_last_commit: bbdf4b1
git_last_commit_date: 2024-10-29 09:59:18 -0500
nebbiolo1Linux (Ubuntu 24.04.1 LTS) / x86_64  OK    OK    WARNINGS  UNNEEDED, same version is already published
palomino7Windows Server 2022 Datacenter / x64  OK    OK    OK    OK  UNNEEDED, same version is already published
lconwaymacOS 12.7.1 Monterey / x86_64  OK    OK    WARNINGS    OK  UNNEEDED, same version is already published
kjohnson3macOS 13.7.1 Ventura / arm64  OK    OK    WARNINGS    OK  NO, package depends on 'TFBSTools' which is only available as a source package that needs compilation
Package 5/10HostnameOS / ArchINSTALLBUILDCHECKBUILD BIN
MethReg 1.17.0  (landing page)
Tiago Silva
git_last_commit: ba3e766
git_last_commit_date: 2024-10-29 10:50:40 -0500
nebbiolo1Linux (Ubuntu 24.04.1 LTS) / x86_64  OK    OK    OK  UNNEEDED, same version is already published
palomino7Windows Server 2022 Datacenter / x64  OK    OK    OK    OK  UNNEEDED, same version is already published
lconwaymacOS 12.7.1 Monterey / x86_64  OK    OK    OK    OK  UNNEEDED, same version is already published
kjohnson3macOS 13.7.1 Ventura / arm64  OK    OK    OK    OK  NO, package depends on 'TFBSTools' which is only available as a source package that needs compilation
Package 6/10HostnameOS / ArchINSTALLBUILDCHECKBUILD BIN
monaLisa 1.13.2  (landing page)
Michael Stadler
git_last_commit: 5f36e73
git_last_commit_date: 2025-01-27 04:05:57 -0500
nebbiolo1Linux (Ubuntu 24.04.1 LTS) / x86_64  OK    OK    OK  UNNEEDED, same version is already published
palomino7Windows Server 2022 Datacenter / x64  OK    OK    OK    OK  UNNEEDED, same version is already published
lconwaymacOS 12.7.1 Monterey / x86_64  OK    OK    OK    OK  UNNEEDED, same version is already published
kjohnson3macOS 13.7.1 Ventura / arm64  OK    OK    OK    OK  NO, package depends on 'TFBSTools' which is only available as a source package that needs compilation
Package 7/10HostnameOS / ArchINSTALLBUILDCHECKBUILD BIN
motifmatchr 1.29.0  (landing page)
Alicia Schep
git_last_commit: 0c15309
git_last_commit_date: 2024-10-29 10:19:51 -0500
nebbiolo1Linux (Ubuntu 24.04.1 LTS) / x86_64  OK    OK    OK  UNNEEDED, same version is already published
palomino7Windows Server 2022 Datacenter / x64  OK    OK    OK    OK  UNNEEDED, same version is already published
lconwaymacOS 12.7.1 Monterey / x86_64  OK    OK    OK    OK  UNNEEDED, same version is already published
kjohnson3macOS 13.7.1 Ventura / arm64  OK    OK    OK    OK  NO, package depends on 'TFBSTools' which is only available as a source package that needs compilation
Package 8/10HostnameOS / ArchINSTALLBUILDCHECKBUILD BIN
motifStack 1.51.1  (landing page)
Jianhong Ou
git_last_commit: a56a420
git_last_commit_date: 2025-01-03 09:48:31 -0500
nebbiolo1Linux (Ubuntu 24.04.1 LTS) / x86_64  OK    OK    OK  UNNEEDED, same version is already published
palomino7Windows Server 2022 Datacenter / x64  OK    OK    OK    OK  UNNEEDED, same version is already published
lconwaymacOS 12.7.1 Monterey / x86_64  OK    OK    OK    OK  UNNEEDED, same version is already published
kjohnson3macOS 13.7.1 Ventura / arm64  OK    OK    OK    OK  NO, package depends on 'TFBSTools' which is only available as a source package that needs compilation
Package 9/10HostnameOS / ArchINSTALLBUILDCHECKBUILD BIN
primirTSS 1.25.0  (landing page)
Pumin Li
git_last_commit: dcff06d
git_last_commit_date: 2024-10-29 10:31:09 -0500
nebbiolo1Linux (Ubuntu 24.04.1 LTS) / x86_64  OK    OK    WARNINGS  UNNEEDED, same version is already published
palomino7Windows Server 2022 Datacenter / x64  OK    OK    WARNINGS    OK  UNNEEDED, same version is already published
lconwaymacOS 12.7.1 Monterey / x86_64  OK    OK    WARNINGS    OK  UNNEEDED, same version is already published
kjohnson3macOS 13.7.1 Ventura / arm64  OK    OK    WARNINGS    OK  NO, package depends on 'TFBSTools' which is only available as a source package that needs compilation
Package 10/10HostnameOS / ArchINSTALLBUILDCHECKBUILD BIN
spatzie 1.13.0  (landing page)
Jennifer Hammelman
git_last_commit: c97feec
git_last_commit_date: 2024-10-29 11:02:43 -0500
nebbiolo1Linux (Ubuntu 24.04.1 LTS) / x86_64  OK    OK    OK  UNNEEDED, same version is already published
palomino7Windows Server 2022 Datacenter / x64  OK    OK    OK    OK  UNNEEDED, same version is already published
lconwaymacOS 12.7.1 Monterey / x86_64  OK    OK    OK    OK  UNNEEDED, same version is already published
kjohnson3macOS 13.7.1 Ventura / arm64  OK    OK    OK    OK  NO, package depends on 'motifmatchr' which is only available as a source package that needs compilation