Package: TFBSTools Version: 1.45.1 Command: /Library/Frameworks/R.framework/Resources/bin/R CMD check --install=check:TFBSTools.install-out.txt --library=/Library/Frameworks/R.framework/Resources/library --no-vignettes --timings TFBSTools_1.45.1.tar.gz StartedAt: 2025-02-09 21:43:25 -0500 (Sun, 09 Feb 2025) EndedAt: 2025-02-09 21:45:48 -0500 (Sun, 09 Feb 2025) EllapsedTime: 142.6 seconds RetCode: 0 Status: OK CheckDir: TFBSTools.Rcheck Warnings: 0