Package: TFBSTools Version: 1.45.1 Command: /Library/Frameworks/R.framework/Resources/bin/R CMD build --keep-empty-dirs --no-resave-data TFBSTools StartedAt: 2025-02-09 18:42:33 -0500 (Sun, 09 Feb 2025) EndedAt: 2025-02-09 18:44:03 -0500 (Sun, 09 Feb 2025) EllapsedTime: 90.2 seconds RetCode: 0 Status: OK PackageFile: TFBSTools_1.45.1.tar.gz PackageFileSize: 1.041 MiB