Package: TFBSTools Version: 1.45.1 Command: /Library/Frameworks/R.framework/Resources/bin/R CMD check --install=check:TFBSTools.install-out.txt --library=/Library/Frameworks/R.framework/Resources/library --no-vignettes --timings TFBSTools_1.45.1.tar.gz StartedAt: 2025-02-10 00:04:52 -0500 (Mon, 10 Feb 2025) EndedAt: 2025-02-10 00:11:43 -0500 (Mon, 10 Feb 2025) EllapsedTime: 411.0 seconds RetCode: 0 Status: OK CheckDir: TFBSTools.Rcheck Warnings: 0