Package: TFBSTools Version: 1.45.1 Command: /Library/Frameworks/R.framework/Resources/bin/R CMD INSTALL TFBSTools StartedAt: 2025-02-09 15:20:20 -0500 (Sun, 09 Feb 2025) EndedAt: 2025-02-09 15:21:29 -0500 (Sun, 09 Feb 2025) EllapsedTime: 69.5 seconds RetCode: 0 Status: OK