Package: TFBSTools Version: 1.45.1 Command: rm -rf TFBSTools.buildbin-libdir && mkdir TFBSTools.buildbin-libdir && E:\biocbuild\bbs-3.21-bioc\R\bin\R.exe CMD INSTALL --build --library=TFBSTools.buildbin-libdir TFBSTools_1.45.1.tar.gz StartedAt: 2025-02-10 08:51:53 -0500 (Mon, 10 Feb 2025) EndedAt: 2025-02-10 08:54:04 -0500 (Mon, 10 Feb 2025) EllapsedTime: 130.8 seconds RetCode: 0 Status: OK PackageFile: TFBSTools_1.45.1.zip PackageFileSize: 1.596 MiB