Package: TFBSTools Version: 1.45.1 Command: chmod a+r TFBSTools -R && E:\biocbuild\bbs-3.21-bioc\R\bin\R.exe CMD build --keep-empty-dirs --no-resave-data TFBSTools StartedAt: 2025-02-12 22:11:27 -0500 (Wed, 12 Feb 2025) EndedAt: 2025-02-12 22:13:45 -0500 (Wed, 12 Feb 2025) EllapsedTime: 138.0 seconds RetCode: 0 Status: OK PackageFile: TFBSTools_1.45.1.tar.gz PackageFileSize: 548.2 KiB