Package: TFBSTools Version: 1.45.1 Command: E:\biocbuild\bbs-3.21-bioc\R\bin\R.exe CMD INSTALL TFBSTools StartedAt: 2025-02-09 16:37:14 -0500 (Sun, 09 Feb 2025) EndedAt: 2025-02-09 16:39:07 -0500 (Sun, 09 Feb 2025) EllapsedTime: 112.4 seconds RetCode: 0 Status: OK