Package: TFEA.ChIP Version: 1.27.0 Command: rm -rf TFEA.ChIP.buildbin-libdir && mkdir TFEA.ChIP.buildbin-libdir && /Users/biocbuild/BBS/utils/build-universal.sh TFEA.ChIP_1.27.0.tar.gz /Library/Frameworks/R.framework/Resources/bin/R TFEA.ChIP.buildbin-libdir StartedAt: 2025-02-04 22:35:08 -0500 (Tue, 04 Feb 2025) EndedAt: 2025-02-04 22:35:26 -0500 (Tue, 04 Feb 2025) EllapsedTime: 17.3 seconds RetCode: 0 Status: OK PackageFile: TFEA.ChIP_1.27.0.tgz PackageFileSize: 5.22 MiB