Package: TFEA.ChIP Version: 1.27.0 Command: /Library/Frameworks/R.framework/Resources/bin/R CMD build --keep-empty-dirs --no-resave-data TFEA.ChIP StartedAt: 2025-02-04 17:48:27 -0500 (Tue, 04 Feb 2025) EndedAt: 2025-02-04 17:49:04 -0500 (Tue, 04 Feb 2025) EllapsedTime: 37.4 seconds RetCode: 0 Status: OK PackageFile: TFEA.ChIP_1.27.0.tar.gz PackageFileSize: 5.261 MiB