Package: TFEA.ChIP Version: 1.27.0 Command: /Library/Frameworks/R.framework/Resources/bin/R CMD check --install=check:TFEA.ChIP.install-out.txt --library=/Library/Frameworks/R.framework/Resources/library --no-vignettes --timings TFEA.ChIP_1.27.0.tar.gz StartedAt: 2025-02-04 21:45:18 -0500 (Tue, 04 Feb 2025) EndedAt: 2025-02-04 21:47:52 -0500 (Tue, 04 Feb 2025) EllapsedTime: 153.8 seconds RetCode: 0 Status: OK CheckDir: TFEA.ChIP.Rcheck Warnings: 0