Package: TFEA.ChIP Version: 1.27.0 Command: /Library/Frameworks/R.framework/Resources/bin/R CMD INSTALL TFEA.ChIP StartedAt: 2025-02-09 15:13:37 -0500 (Sun, 09 Feb 2025) EndedAt: 2025-02-09 15:13:54 -0500 (Sun, 09 Feb 2025) EllapsedTime: 16.0 seconds RetCode: 0 Status: OK