Package: TFEA.ChIP Version: 1.27.0 Command: /home/biocbuild/R/R/bin/R CMD build --keep-empty-dirs --no-resave-data TFEA.ChIP StartedAt: 2025-01-28 02:53:58 -0000 (Tue, 28 Jan 2025) EndedAt: 2025-01-28 02:55:58 -0000 (Tue, 28 Jan 2025) EllapsedTime: 120.1 seconds RetCode: 0 Status: OK PackageFile: TFEA.ChIP_1.27.0.tar.gz PackageFileSize: 5.249 MiB